BEGIN:VCALENDAR
VERSION:2.0
PRODID:-//Denver Musicians Association - ECPv6.13.2.1//NONSGML v1.0//EN
CALSCALE:GREGORIAN
METHOD:PUBLISH
X-WR-CALNAME:Denver Musicians Association
X-ORIGINAL-URL:https://staging.denvermusicians.org
X-WR-CALDESC:Events for Denver Musicians Association
REFRESH-INTERVAL;VALUE=DURATION:PT1H
X-Robots-Tag:noindex
X-PUBLISHED-TTL:PT1H
BEGIN:VTIMEZONE
TZID:America/Denver
BEGIN:DAYLIGHT
TZOFFSETFROM:-0700
TZOFFSETTO:-0600
TZNAME:MDT
DTSTART:20160313T090000
END:DAYLIGHT
BEGIN:STANDARD
TZOFFSETFROM:-0600
TZOFFSETTO:-0700
TZNAME:MST
DTSTART:20161106T080000
END:STANDARD
BEGIN:DAYLIGHT
TZOFFSETFROM:-0700
TZOFFSETTO:-0600
TZNAME:MDT
DTSTART:20170312T090000
END:DAYLIGHT
BEGIN:STANDARD
TZOFFSETFROM:-0600
TZOFFSETTO:-0700
TZNAME:MST
DTSTART:20171105T080000
END:STANDARD
END:VTIMEZONE
BEGIN:VEVENT
DTSTART;TZID=America/Denver:20170318T130000
DTEND;TZID=America/Denver:20170318T150000
DTSTAMP:20260425T102853
CREATED:20170316T213807Z
LAST-MODIFIED:20170316T213807Z
UID:1764-1489842000-1489849200@staging.denvermusicians.org
SUMMARY:Boulder Bassoon Quartet Ten Year Anniversary
DESCRIPTION:The Boulder Bassoon Quartet is turning 10! This unique chamber ensemble of professional musicians started with humble roots at CU Boulder\, and now has performed all across Colorado and beyond\, including international conferences in Arizona and Japan! \n  \nJoin us for a fun night of the Quartet’s favorite pieces from the past ten years\, including their newest project – a short film\, professionally made here in Colorado\, to be screened while the music is played live. The world’s first all-bassoon film score! \n  \n$15 tickets available at etown.org. Special VIP tickets include a pre-concert reception featuring food from Sushi Zanmai and Mister Tuna!
URL:https://staging.denvermusicians.org/event-calendar/boulder-bassoon-quartet-ten-year-anniversary/
LOCATION:eTown Hall\, 1535 Spruce Street\, Boulder\, CO\, 80302\, United States
ATTACH;FMTTYPE=image/png:https://staging.denvermusicians.org/wp-content/uploads/2017/03/etowncalendar.png
END:VEVENT
BEGIN:VEVENT
DTSTART;TZID=America/Denver:20170318T020000
DTEND;TZID=America/Denver:20170318T133000
DTSTAMP:20260425T102853
CREATED:20170316T213749Z
LAST-MODIFIED:20170316T213749Z
UID:1750-1489802400-1489843800@staging.denvermusicians.org
SUMMARY:Music for Spring
DESCRIPTION:The Mountain Chamber Music Society will present Music for Spring on March 18 at St. Andrew’s Episcopal Church\, 7:30 p.m. We will be performing a program of duo works.
URL:https://staging.denvermusicians.org/event-calendar/music-for-spring/
LOCATION:St. Andrew’s Episcopal Church\, 2015 Glenarm Place\, Denver\, CO\, 80205\, United States
ATTACH;FMTTYPE=image/jpeg:https://staging.denvermusicians.org/wp-content/uploads/2017/03/Music-for-Spring-2017.jpg
END:VEVENT
BEGIN:VEVENT
DTSTART;TZID=America/Denver:20170313T110000
DTEND;TZID=America/Denver:20170313T133000
DTSTAMP:20260425T102853
CREATED:20170301T032158Z
LAST-MODIFIED:20170301T032158Z
UID:1674-1489402800-1489411800@staging.denvermusicians.org
SUMMARY:General Membership Meeting
DESCRIPTION:2017 First Quarter – General Membership Meeting \nAGENDA (meeting to start at 5:30 pm) \nState of the Union Presentation\nProposed Bylaw Change \nThe room in our building is not available – in the spirit of making lemonade out of lemons\, we’ve reserved a meeting room in the Colorado Plus Brew Pub in Wheat Ridge. \nFood will be provided by the local\, beverages will be available from the pub’s Monday happy hour menu (cash bar).
URL:https://staging.denvermusicians.org/event-calendar/general-membership-meeting/
LOCATION:Colorado Plus Brew Pub\, 6995 West 38th Avenue\, Wheat Ridge\, CO\, 80033\, United States
END:VEVENT
BEGIN:VEVENT
DTSTART;TZID=America/Denver:20170218T130000
DTEND;TZID=America/Denver:20170218T160000
DTSTAMP:20260425T102853
CREATED:20170207T010739Z
LAST-MODIFIED:20170207T010739Z
UID:1531-1487422800-1487433600@staging.denvermusicians.org
SUMMARY:Chris Daniels and the Kings
DESCRIPTION:A Valentine’s Day Celebration with…\nChris Daniels and the Kings & The Hazel Miller Band\n(Dual Headline Show with full sets!)
URL:https://staging.denvermusicians.org/event-calendar/chris-daniels-kings-2/
LOCATION:Oriental Theater\, 4335 W 44th Ave\, Denver\, CO 80212\, CO\, United States
ATTACH;FMTTYPE=image/jpeg:https://staging.denvermusicians.org/wp-content/uploads/2017/02/CD-1.jpg
END:VEVENT
BEGIN:VEVENT
DTSTART;TZID=America/Denver:20170218T130000
DTEND;TZID=America/Denver:20170218T160000
DTSTAMP:20260425T102853
CREATED:20170207T010719Z
LAST-MODIFIED:20170207T010719Z
UID:1541-1487422800-1487433600@staging.denvermusicians.org
SUMMARY:Chris Daniels and the Kings
DESCRIPTION:A Valentine’s Day Celebration with…\nChris Daniels and the Kings & The Hazel Miller Band\n(Dual Headline Show with full sets!)\nat The Oriental Theater\nFEBRUARY 18\, 2017 8:00 PM
URL:https://staging.denvermusicians.org/event-calendar/chris-daniels-kings/
LOCATION:Oriental Theater\, 4335 W 44th Ave\, Denver\, CO 80212\, CO\, United States
ATTACH;FMTTYPE=image/jpeg:https://staging.denvermusicians.org/wp-content/uploads/2017/02/CD-2.jpg
END:VEVENT
BEGIN:VEVENT
DTSTART;TZID=America/Denver:20170218T122500
DTEND;TZID=America/Denver:20170218T144500
DTSTAMP:20260425T102853
CREATED:20170207T012136Z
LAST-MODIFIED:20170207T012136Z
UID:1571-1487420700-1487429100@staging.denvermusicians.org
SUMMARY:MOZART & STRAVINSKY CONDUCTED BY DERIDDER
DESCRIPTION:For these midwinter concerts\, Andre de Ridder returns to Denver to show locals why he’s considered one of the most creative conductors in the world. The program begins with viola soloist Nadia Sirota taking on American Nico Muhly’s Viola Concerto\, premiered in 2015 by Ms. Sirota and the Detroit Symphony Orchestra. Mark Stryker of the Detroit Free Press liked what he heard\, writing\, “The music is spare\, tactile and a little spacey\, and seems to briefly open a window on the infinite. . . . By the end\, you feel as if you’ve been on a journey\, happy to have been along for the ride.”
URL:https://staging.denvermusicians.org/event-calendar/mozart-stravinsky-conducted-deridder/
LOCATION:Boettcher Concert Hall\, 1000 14th St\, Denver\, CO\, 80204\, United States
ATTACH;FMTTYPE=image/jpeg:https://staging.denvermusicians.org/wp-content/uploads/2017/02/deRidder.Conducts.Web_.jpg
END:VEVENT
BEGIN:VEVENT
DTSTART;TZID=America/Denver:20170218T070000
DTEND;TZID=America/Denver:20170218T093000
DTSTAMP:20260425T102853
CREATED:20170207T012920Z
LAST-MODIFIED:20170207T012920Z
UID:1578-1487401200-1487410200@staging.denvermusicians.org
SUMMARY:Colorado Ballet 2017 Ballet MasterWorks
DESCRIPTION:Colorado Ballet will present a collection of three master ballet works set to live music by the Colorado Ballet Orchestra in Ballet MasterWorks\, which includes Firebird\, by choreographer Yuri Possokhov\, Choreographer in Residence for the San Francisco Ballet and music by Igor Stravinsky. Ballet MasterWorks will also feature Serenade choreographed by George Balanchine to Tchaikovsky’s “Serenade for Strings in C.” Colorado Ballet is extremely excited to present a work by choreographer Jirí Kylián for the first time—rounding out the program with Petite Mort by Kylián with music by Wolfgang Amadeus Mozart.
URL:https://staging.denvermusicians.org/event-calendar/colorado-ballet-2017-ballet-masterworks/
LOCATION:Ellie Caulkins Opera House\, 1385 Curtis Street\, Denver\, CO\, 80204\, United States
ATTACH;FMTTYPE=image/jpeg:https://staging.denvermusicians.org/wp-content/uploads/2017/02/master-works-16-17-v2.jpg
END:VEVENT
BEGIN:VEVENT
DTSTART;TZID=America/Denver:20170217T123000
DTEND;TZID=America/Denver:20170217T150000
DTSTAMP:20260425T102853
CREATED:20170207T012428Z
LAST-MODIFIED:20170207T012607Z
UID:1575-1487334600-1487343600@staging.denvermusicians.org
SUMMARY:Colorado Ballet - 2017 MasterWorks
DESCRIPTION:
URL:https://staging.denvermusicians.org/event-calendar/2017-ballet-masterworks/
LOCATION:Ellie Caulkins Opera House\, 1385 Curtis Street\, Denver\, CO\, 80204\, United States
END:VEVENT
BEGIN:VEVENT
DTSTART;TZID=America/Denver:20170212T060000
DTEND;TZID=America/Denver:20170212T080000
DTSTAMP:20260425T102853
CREATED:20170207T012154Z
LAST-MODIFIED:20170207T012154Z
UID:1567-1486879200-1486886400@staging.denvermusicians.org
SUMMARY:PETER AND THE WOLF
DESCRIPTION:Family-favorite Peter and the Wolf is Prokofiev’s fantastical tale in which Peter and a myriad of unruly animals are brought to life by the instruments of the orchestra to tell a tale in which good triumphs over evil. The Prokofiev classic is an exciting musical experience with live narration and surprises of all sorts! This performance is a great way for your child\, and for the child at heart to have a great introduction to the orchestra.
URL:https://staging.denvermusicians.org/event-calendar/peter-and-the-wolf/
LOCATION:Boettcher Concert Hall\, 1000 14th St\, Denver\, CO\, 80204\, United States
ATTACH;FMTTYPE=image/jpeg:https://staging.denvermusicians.org/wp-content/uploads/2017/02/Peter.Wolf_.Web_.jpg
END:VEVENT
BEGIN:VEVENT
DTSTART;TZID=America/Denver:20170211T112500
DTEND;TZID=America/Denver:20170211T143000
DTSTAMP:20260425T102853
CREATED:20170207T011731Z
LAST-MODIFIED:20170207T011731Z
UID:1563-1486812300-1486823400@staging.denvermusicians.org
SUMMARY:BYRON STRIPLING WHAT A WONDERFUL WORLD: A TRIBUTE TO LOUIS ARMSTRONG
DESCRIPTION:Byron Stripling’s electrifying and heartfelt tribute to Louis Armstrong has become America’s most popular orchestral Pops program. With his engaging rapport\, smooth vocals and virtuosic trumpet technique\, Byron dazzles audiences across the globe. Musical hits from the Armstrong songbook include\, “What A Wonderful World\,” “Mack the Knife\,” “Ain’t Misbehavin\,” “Do You Know What It Means To Miss New Orleans\,” “Hello Dolly\,” and “Basin Street Blues.” With his signature version of “When The Saints Go Marchin’ In” to close the show\, Byron celebrates the spirit of the great Louis Armstrong and leaves ’em dancing in the aisles!
URL:https://staging.denvermusicians.org/event-calendar/byron-stripling-wonderful-world-tribute-louis-armstrong/
LOCATION:Boettcher Concert Hall\, 1000 14th St\, Denver\, CO\, 80204\, United States
ATTACH;FMTTYPE=image/jpeg:https://staging.denvermusicians.org/wp-content/uploads/2017/02/Byron.Stripling.Louis_.Armstrong.Web_.jpg
END:VEVENT
BEGIN:VEVENT
DTSTART;TZID=America/Denver:20170210T123000
DTEND;TZID=America/Denver:20170210T153000
DTSTAMP:20260425T102853
CREATED:20170207T010901Z
LAST-MODIFIED:20170207T010901Z
UID:1537-1486729800-1486740600@staging.denvermusicians.org
SUMMARY:Forever In Blue Jeans
DESCRIPTION:Diamonds really are forever-at least for fans of Neil Diamond. Some of the best musicians in Denver come together to form a one of a kind Neil Diamond Tribute – “Forever In Blue Jeans.”\nFIBJ was created with the intent to give listeners the feeling that they’re at a real Neil Diamond show. That is exactly what they’ve done. The front man and mastermind of this project is Aaron Rose\, a lifetime Neil Diamond fan. After honing his voice and presence to replicate those of the real Neil\, Rose set out to find the perfect mix of musicians for the show.\nForever In Blue Jeans creates for the audience an authentic Neil Diamond experience that’s sure to please. Playing all the Hits\, this tribute truly delivers!
URL:https://staging.denvermusicians.org/event-calendar/forever-blue-jeans/
LOCATION:Nissi’s\, 2675 Northpark Drive\, Lafayette\, CO\, CO\, United States
ATTACH;FMTTYPE=image/jpeg:https://staging.denvermusicians.org/wp-content/uploads/2017/02/FIBJ.jpg
END:VEVENT
BEGIN:VEVENT
DTSTART;TZID=America/Denver:20170210T123000
DTEND;TZID=America/Denver:20170210T150000
DTSTAMP:20260425T102853
CREATED:20170207T010916Z
LAST-MODIFIED:20170207T010916Z
UID:1521-1486729800-1486738800@staging.denvermusicians.org
SUMMARY:Forever In Blue Jeans (Neil Diamond Tribute)
DESCRIPTION:Diamonds really are forever-at least for fans of Neil Diamond. Some of the best musicians in Denver come together to form a one of a kind Neil Diamond Tribute – “Forever In Blue Jeans.”\nFIBJ was created with the intent to give listeners the feeling that they’re at a real Neil Diamond show. That is exactly what they’ve done. The front man and mastermind of this project is Aaron Rose\, a lifetime Neil Diamond fan. After honing his voice and presence to replicate those of the real Neil\, Rose set out to find the perfect mix of musicians for the show.\nForever In Blue Jeans creates for the audience an authentic Neil Diamond experience that’s sure to please. Playing all the Hits\, this tribute truly delivers!
URL:https://staging.denvermusicians.org/event-calendar/forever-blue-jeans-neil-diamond-tribute/
LOCATION:Nissi’s\, 2675 Northpark Drive\, Lafayette\, CO\, CO\, United States
END:VEVENT
BEGIN:VEVENT
DTSTART;TZID=America/Denver:20170209T113000
DTEND;TZID=America/Denver:20170209T150000
DTSTAMP:20260425T102853
CREATED:20170207T011446Z
LAST-MODIFIED:20170207T011446Z
UID:1560-1486639800-1486652400@staging.denvermusicians.org
SUMMARY:CONTEMPORARY CHAMBER MUSIC AT THE STUDIO LOFT
DESCRIPTION:
URL:https://staging.denvermusicians.org/event-calendar/contemporary-chamber-music-studio-loft/
LOCATION:ElliE Caulkins Studio Loft\, 1385 Curtis Street\, Denver\, CO\, 80204\, United States
END:VEVENT
BEGIN:VEVENT
DTSTART;TZID=America/Denver:20170202T130000
DTEND;TZID=America/Denver:20170202T160000
DTSTAMP:20260425T102853
CREATED:20170207T010801Z
LAST-MODIFIED:20170207T010801Z
UID:1525-1486040400-1486051200@staging.denvermusicians.org
SUMMARY:Chris Daniels and the Kings
DESCRIPTION:A Valentine’s Day Celebration with…\nChris Daniels and the Kings & The Hazel Miller Band\n(Dual Headline Show with full sets!)
URL:https://staging.denvermusicians.org/event-calendar/chris-daniels-kings-3/
LOCATION:Oriental Theater\, 4335 W 44th Ave\, Denver\, CO 80212\, CO\, United States
ATTACH;FMTTYPE=image/jpeg:https://staging.denvermusicians.org/wp-content/uploads/2017/02/CD.jpg
END:VEVENT
BEGIN:VEVENT
DTSTART;TZID=America/Denver:20170121T110000
DTEND;TZID=America/Denver:20170121T130000
DTSTAMP:20260425T102853
CREATED:20170118T044711Z
LAST-MODIFIED:20170118T044711Z
UID:1432-1484996400-1485003600@staging.denvermusicians.org
SUMMARY:Laurie and Lorrie
DESCRIPTION:Laurie and Lorrie\, formerly Sister Swing\, Denver’s premier women’s band. \nLaurie D on guitars and vocals and Lorrie Baum on bass/vocals \nLots of fun and little bit for everyone – pop\, blues and jazz! \n\nGreat menu and cozy fireplace!
URL:https://staging.denvermusicians.org/event-calendar/laurie-and-lorrie/
LOCATION:Saddleback Country Club\, 8631 Frontier St\, Firestone\, CO\, 80504\, United States
ATTACH;FMTTYPE=image/jpeg:https://staging.denvermusicians.org/wp-content/uploads/2017/01/LorrieLauriecropped-1.jpg
END:VEVENT
BEGIN:VEVENT
DTSTART;TZID=America/Denver:20170120T100000
DTEND;TZID=America/Denver:20170120T130000
DTSTAMP:20260425T102853
CREATED:20170118T044726Z
LAST-MODIFIED:20170118T044726Z
UID:1427-1484906400-1484917200@staging.denvermusicians.org
SUMMARY:Laurie and Lorrie
DESCRIPTION:Laurie and Lorrie\, formerly Sister Swing\, Denver’s premier women’s band. \nLaurie D on guitars and vocals and Lorrie Baum on bass/vocals \nLots of fun and little bit for everyone – pop\, blues and jazz!\nFridays are prime rip night but a wide menu! \n\n 
URL:https://staging.denvermusicians.org/event-calendar/laurie-and-lorrie-2/
LOCATION:Sweeet Spot Cafe (Coal Creek Country Club)\, 5858 W Dillon Rd\, Louisville \, CO\, 80027\, United States
ATTACH;FMTTYPE=image/jpeg:https://staging.denvermusicians.org/wp-content/uploads/2017/01/LorrieLauriecropped.jpg
END:VEVENT
BEGIN:VEVENT
DTSTART;TZID=America/Denver:20161231T113000
DTEND;TZID=America/Denver:20161231T133000
DTSTAMP:20260425T102853
CREATED:20161228T013655Z
LAST-MODIFIED:20161228T013655Z
UID:1319-1483183800-1483191000@staging.denvermusicians.org
SUMMARY:Colorado Symphony - A Night in Vienna
DESCRIPTION:
URL:https://staging.denvermusicians.org/event-calendar/colorado-symphony-night-vienna/
LOCATION:Boettcher Concert Hall\, 1000 14th St\, Denver\, CO\, 80204\, United States
END:VEVENT
BEGIN:VEVENT
DTSTART;TZID=America/Denver:20161217T123000
DTEND;TZID=America/Denver:20161217T133000
DTSTAMP:20260425T102853
CREATED:20161228T014018Z
LAST-MODIFIED:20161228T014018Z
UID:1247-1481977800-1481981400@staging.denvermusicians.org
SUMMARY:Colorado Ballet Nutcracker
DESCRIPTION:Colorado Ballet’s 56th annual production of The Nutcracker will feature more than 300 costumes\, 31 Company dancers\, 25 Studio Company dancers\, 76 Academy dancers\, scenery by José Varona and timeless choreography paired with Tchaikovsky’s extraordinary orchestral score performed live by the Colorado Ballet Orchestra.
URL:https://staging.denvermusicians.org/event-calendar/colorado-ballet-nutcracker-4/
LOCATION:Ellie Caulkins Opera House\, 1385 Curtis Street\, Denver\, CO\, 80204\, United States
ATTACH;FMTTYPE=image/jpeg:https://staging.denvermusicians.org/wp-content/uploads/2016/12/Morgan-Buchanan-Nutcracker-2.jpg
END:VEVENT
BEGIN:VEVENT
DTSTART;TZID=America/Denver:20161216T123000
DTEND;TZID=America/Denver:20161216T143000
DTSTAMP:20260425T102853
CREATED:20161215T012006Z
LAST-MODIFIED:20161215T012814Z
UID:1244-1481891400-1481898600@staging.denvermusicians.org
SUMMARY:Colorado Ballet Nutcracker
DESCRIPTION:
URL:https://staging.denvermusicians.org/event-calendar/colorado-ballet-nutcracker/
LOCATION:Ellie Caulkins Opera House\, 1385 Curtis Street\, Denver\, CO\, 80204\, United States
END:VEVENT
BEGIN:VEVENT
DTSTART;TZID=America/Denver:20161208T123000
DTEND;TZID=America/Denver:20161208T143000
DTSTAMP:20260425T102853
CREATED:20161228T014001Z
LAST-MODIFIED:20161228T014001Z
UID:1184-1481200200-1481207400@staging.denvermusicians.org
SUMMARY:Colorado Ballet Nutcracker
DESCRIPTION:Colorado Ballet’s 56th annual production of The Nutcracker will feature more than 300 costumes\, 31 Company dancers\, 25 Studio Company dancers\, 76 Academy dancers\, scenery by José Varona and timeless choreography paired with Tchaikovsky’s extraordinary orchestral score performed live by the Colorado Ballet Orchestra.
URL:https://staging.denvermusicians.org/event-calendar/colorado-ballet-nutcracker-3/
LOCATION:Ellie Caulkins Opera House\, 1385 Curtis Street\, Denver\, CO\, 80204\, United States
END:VEVENT
BEGIN:VEVENT
DTSTART;TZID=America/Denver:20161208T123000
DTEND;TZID=America/Denver:20161208T143000
DTSTAMP:20260425T102853
CREATED:20161228T013933Z
LAST-MODIFIED:20161228T013933Z
UID:1176-1481200200-1481207400@staging.denvermusicians.org
SUMMARY:Colorado Ballet Nutcracker
DESCRIPTION:Colorado Ballet’s 56th annual production of The Nutcracker will feature more than 300 costumes\, 31 Company dancers\, 25 Studio Company dancers\, 76 Academy dancers\, scenery by José Varona and timeless choreography paired with Tchaikovsky’s extraordinary musical score performed live by the Colorado Ballet Orchestra.
URL:https://staging.denvermusicians.org/event-calendar/colorado-ballet-nutcracker-2/
LOCATION:Ellie Caulkins Opera House\, 1385 Curtis Street\, Denver\, CO\, 80204\, United States
END:VEVENT
BEGIN:VEVENT
DTSTART;TZID=America/Denver:20161008T133000
DTEND;TZID=America/Denver:20161008T180000
DTSTAMP:20260425T102853
CREATED:20160805T024659Z
LAST-MODIFIED:20160805T024904Z
UID:973-1475933400-1475949600@staging.denvermusicians.org
SUMMARY:Boulder Philharmonic Opening Night
DESCRIPTION:
URL:https://staging.denvermusicians.org/event-calendar/boulder-philharmonic-opening-night/
LOCATION:Macky Auditorium\, 1595 Pleasant Avenue\, Boulder\, CO\, 80309\, United States
END:VEVENT
BEGIN:VEVENT
DTSTART;TZID=America/Denver:20160930T020000
DTEND;TZID=America/Denver:20161001T110000
DTSTAMP:20260425T102853
CREATED:20160805T015539Z
LAST-MODIFIED:20160805T022849Z
UID:944-1475200800-1475319600@staging.denvermusicians.org
SUMMARY:Sample Event That Spans Months
DESCRIPTION:Quisque ut nisi. Suspendisse non nisl sit amet velit hendrerit rutrum. Aliquam eu nunc. Cras varius. Aliquam erat volutpat. \nPellentesque ut neque. Mauris sollicitudin fermentum libero. Proin faucibus arcu quis ante. Donec pede justo\, fringilla vel\, aliquet nec\, vulputate eget\, arcu. Fusce risus nisl\, viverra et\, tempor et\, pretium in\, sapien. \nPhasellus magna. Cras dapibus. Aenean posuere\, tortor sed cursus feugiat\, nunc augue blandit nunc\, eu sollicitudin urna dolor sagittis lacus. In enim justo\, rhoncus ut\, imperdiet a\, venenatis vitae\, justo. Vivamus euismod mauris. \nIn ac felis quis tortor malesuada pretium. Cras risus ipsum\, faucibus ut\, ullamcorper id\, varius ac\, leo. Curabitur nisi. Fusce fermentum. Phasellus accumsan cursus velit. \nPellentesque ut neque. Nam eget dui. Nam at tortor in tellus interdum sagittis. Cras dapibus. Vestibulum ante ipsum primis in faucibus orci luctus et ultrices posuere cubilia Curae; Fusce id purus.
URL:https://staging.denvermusicians.org/event-calendar/sample-event-spans-months/
END:VEVENT
BEGIN:VEVENT
DTSTART;TZID=America/Denver:20160925T020000
DTEND;TZID=America/Denver:20160925T110000
DTSTAMP:20260425T102853
CREATED:20160805T020136Z
LAST-MODIFIED:20160805T025027Z
UID:940-1474768800-1474801200@staging.denvermusicians.org
SUMMARY:SAMPLE EVENT - Awesome Aardvarks Jazz Party
DESCRIPTION:
URL:https://staging.denvermusicians.org/event-calendar/sample-event-awesome-aardvarks-jazz-party/
LOCATION:Denver Musicians Association\, 10395 West Colfax\, Suite 210\, Lakewood\, CO\, 80215\, United States
END:VEVENT
BEGIN:VEVENT
DTSTART;TZID=America/Denver:20160825T020000
DTEND;TZID=America/Denver:20160825T110000
DTSTAMP:20260425T102853
CREATED:20160712T210814Z
LAST-MODIFIED:20160805T025027Z
UID:605-1472090400-1472122800@staging.denvermusicians.org
SUMMARY:Sample Event Created by Admin
DESCRIPTION:
URL:https://staging.denvermusicians.org/event-calendar/sample-event/
LOCATION:Denver Musicians Association\, 10395 West Colfax\, Suite 210\, Lakewood\, CO\, 80215\, United States
END:VEVENT
END:VCALENDAR